BEGIN:VCALENDAR
VERSION:2.0
METHOD:PUBLISH
PRODID:-//Virginia Tech//VT Calendar//EN
BEGIN:VEVENT
DTSTAMP:20260216T230000Z
UID:1770227038826@events.msu.edu
CATEGORIES:Student Events
DTSTART:20260216T230000Z
DTEND:20260217T020000Z
SUMMARY:Lunar New Year Cinematic Celebration
DESCRIPTION:
 Celebrate Lunar New Year with UAB and the Chinese 
 American Student Coalition for a night full 
 of fun, culture, and community! Come honor 
 Asian traditions through delicious cuisine, 
 a festive craft, and our special screening of 
 The Joy Luck Club. While supplies last!\n\n
 Price: Free for all MSU students, all must show ID\n
 Sponsor: UAB and the Chinese American Student Coalition\n
 Sponsor's Homepage: http://www.uabevents.com\n
 Contact name: University Activities Board\n
 Contact phone: 517-355-3354\n
 Contact email: uab@msu.edu\n
 for more info visit the web at:\n 
 https://uabevents.com/\n
LOCATION:MSU Union Ballroom, second floor
END:VEVENT
END:VCALENDAR
